BEGIN:VCALENDAR
VERSION:2.0
PRODID:-//hacksw/handcal//NONSGML v1.0//EN
BEGIN:VEVENT
SUMMARY:Week-end a Nevache
UID:11056dd7-49ee-4d79-9864-4ed2069957bd
DTSTART:20260129T230000Z
DTEND:20260202T230000Z
LOCATION:Localisation Riou de Robion 05100 Nevache
CATEGORIES:Stage
STATUS:
URL;VALUE=URI:https://vitrolles-triathlon.sportsregions.fr/evenements/2026/01/30/week-end-a-nevache-2418527
END:VEVENT
END:VCALENDAR
