BEGIN:VCALENDAR
VERSION:2.0
PRODID:-//hacksw/handcal//NONSGML v1.0//EN
BEGIN:VEVENT
SUMMARY:Assemblee Generale
UID:a7992fd2-13b5-40ea-a7a5-b801b1802b74
DTSTART:20260207T163000Z
DTEND:20260207T200000Z
LOCATION:Localisation Maison de quartier les vignettes 13127 Vitrolles
CATEGORIES:Administratif
STATUS:
URL;VALUE=URI:https://vitrolles-triathlon.sportsregions.fr/evenements/2026/02/07/assemblee-generale-2418580
END:VEVENT
END:VCALENDAR
